BEGIN:VCALENDAR
VERSION:2.0
CALSCALE:GREGORIAN
PRODID:adamgibbons/ics
METHOD:PUBLISH
X-PUBLISHED-TTL:PT1H
BEGIN:VEVENT
UID:222@tucsontimeline.info
SUMMARY:Oryx at Wooden Tooth Records
DTSTAMP:20260423T115639Z
DTSTART:20250427T020000Z
DESCRIPTION:Denver-based doom/sludge metal band Oryx returns to Tucson on A
	pril 26th at\nWooden Tooth Records. They'll be joined by locals Manguera a
	nd Black Baptist.\nWe're excited to have our longtime friends back in Ariz
	ona.\n\nOryx is comprised of Thomas Davis (vocals\, guitars\, synth)\, Abi
	gail Davis\n(drums)\, and Joshua Kauffman (bass). ORYX is a monolithic for
	ce\, characterized\nby thick\, suffocating riffs\, pulverizing drums\, and
	 vocals that seep into the\nlistener's psyche like a toxic sludge
URL:https://tucsontimeline.info/event/oryx-at-wooden-tooth-records
GEO:32.2218;-110.97
LOCATION:Wooden Tooth Records - 102\, East Congress Street\, Tucson\, Arizo
	na
STATUS:CONFIRMED
CATEGORIES:desert drone,desertdrone,doom metal,experimental
X-ALT-DESC;FMTTYPE=text/html:<p>Denver-based doom/sludge metal band Oryx re
	turns to Tucson on April 26th at Wooden Tooth Records. They'll be joined b
	y locals Manguera and Black Baptist. We're excited to have our longtime fr
	iends back in Arizona.<br><br>Oryx is comprised of Thomas Davis (vocals, g
	uitars, synth), Abigail Davis (drums), and Joshua Kauffman (bass). ORYX is
	 a monolithic force, characterized by thick, suffocating riffs, pulverizin
	g drums, and vocals that seep into the listener's psyche like a toxic slud
	ge</p>
END:VEVENT
END:VCALENDAR
